BEGIN:VCALENDAR
VERSION:2.0
PRODID:-//Town of Northport, Maine - ECPv6.15.17.1//NONSGML v1.0//EN
CALSCALE:GREGORIAN
METHOD:PUBLISH
X-WR-CALNAME:Town of Northport, Maine
X-ORIGINAL-URL:https://northportmaine.org
X-WR-CALDESC:Events for Town of Northport, Maine
REFRESH-INTERVAL;VALUE=DURATION:PT1H
X-Robots-Tag:noindex
X-PUBLISHED-TTL:PT1H
BEGIN:VTIMEZONE
TZID:America/New_York
BEGIN:DAYLIGHT
TZOFFSETFROM:-0500
TZOFFSETTO:-0400
TZNAME:EDT
DTSTART:20230312T070000
END:DAYLIGHT
BEGIN:STANDARD
TZOFFSETFROM:-0400
TZOFFSETTO:-0500
TZNAME:EST
DTSTART:20231105T060000
END:STANDARD
BEGIN:DAYLIGHT
TZOFFSETFROM:-0500
TZOFFSETTO:-0400
TZNAME:EDT
DTSTART:20240310T070000
END:DAYLIGHT
BEGIN:STANDARD
TZOFFSETFROM:-0400
TZOFFSETTO:-0500
TZNAME:EST
DTSTART:20241103T060000
END:STANDARD
BEGIN:DAYLIGHT
TZOFFSETFROM:-0500
TZOFFSETTO:-0400
TZNAME:EDT
DTSTART:20250309T070000
END:DAYLIGHT
BEGIN:STANDARD
TZOFFSETFROM:-0400
TZOFFSETTO:-0500
TZNAME:EST
DTSTART:20251102T060000
END:STANDARD
END:VTIMEZONE
BEGIN:VEVENT
DTSTART;TZID=America/New_York:20240402T180000
DTEND;TZID=America/New_York:20240402T180000
DTSTAMP:20260419T191235
CREATED:20240327T124214Z
LAST-MODIFIED:20240327T124214Z
UID:4596-1712080800-1712080800@northportmaine.org
SUMMARY:Special Select Board Meeting
DESCRIPTION:The Select Board will be holding a special meeting jointly with the Belfast City Council\, at Belfast City Hall\, on Tuesday\, April 2\, at 6:00pm\, to discuss the Northport-Belfast boundary.
URL:https://northportmaine.org/event/special-select-board-meeting-12/
LOCATION:Belfast City Hall\, 131 Church Street\, Belfast\, ME\, 04915\, United States
CATEGORIES:Select Board Meeting
END:VEVENT
END:VCALENDAR