BEGIN:VCALENDAR
VERSION:2.0
PRODID:-//Town of Northport, Maine - ECPv6.15.17.1//NONSGML v1.0//EN
CALSCALE:GREGORIAN
METHOD:PUBLISH
X-ORIGINAL-URL:https://northportmaine.org
X-WR-CALDESC:Events for Town of Northport, Maine
REFRESH-INTERVAL;VALUE=DURATION:PT1H
X-Robots-Tag:noindex
X-PUBLISHED-TTL:PT1H
BEGIN:VTIMEZONE
TZID:America/New_York
BEGIN:DAYLIGHT
TZOFFSETFROM:-0500
TZOFFSETTO:-0400
TZNAME:EDT
DTSTART:20230312T070000
END:DAYLIGHT
BEGIN:STANDARD
TZOFFSETFROM:-0400
TZOFFSETTO:-0500
TZNAME:EST
DTSTART:20231105T060000
END:STANDARD
BEGIN:DAYLIGHT
TZOFFSETFROM:-0500
TZOFFSETTO:-0400
TZNAME:EDT
DTSTART:20240310T070000
END:DAYLIGHT
BEGIN:STANDARD
TZOFFSETFROM:-0400
TZOFFSETTO:-0500
TZNAME:EST
DTSTART:20241103T060000
END:STANDARD
BEGIN:DAYLIGHT
TZOFFSETFROM:-0500
TZOFFSETTO:-0400
TZNAME:EDT
DTSTART:20250309T070000
END:DAYLIGHT
BEGIN:STANDARD
TZOFFSETFROM:-0400
TZOFFSETTO:-0500
TZNAME:EST
DTSTART:20251102T060000
END:STANDARD
END:VTIMEZONE
BEGIN:VEVENT
DTSTART;TZID=America/New_York:20240111T190000
DTEND;TZID=America/New_York:20240111T190000
DTSTAMP:20260419T233854
CREATED:20240109T180800Z
LAST-MODIFIED:20240109T180800Z
UID:4284-1704999600-1704999600@northportmaine.org
SUMMARY:Special Select Board Meeting
DESCRIPTION:The Select Board will hold a Special Meeting on Thursday\, January 11\, 2024\, after 6:30pm at the Edna Drinkwater School\, 56 Bayside Road\, after the conclusion of the Special Town Meeting\, to hold an executive session pursuant to 1 M.R.S.A. § 405(6)(E). \n 
URL:https://northportmaine.org/event/special-select-board-meeting-5/
LOCATION:Edna Drinkwater School\, 56 Bayside Road\, Northport\, ME\, 04849\, United States
CATEGORIES:Select Board Meeting
END:VEVENT
BEGIN:VEVENT
DTSTART;TZID=America/New_York:20240129T181500
DTEND;TZID=America/New_York:20240129T181500
DTSTAMP:20260419T233854
CREATED:20240126T161714Z
LAST-MODIFIED:20240126T161714Z
UID:4316-1706552100-1706552100@northportmaine.org
SUMMARY:Special Select Board Meeting
DESCRIPTION:The Select Board will hold a special meeting on Monday\, January 29\, 2024\, at 6:15pm at the Northport Town Office to discuss the purchase of a new rig for the First Responders and repairs to the Fire Department’s utility truck.
URL:https://northportmaine.org/event/special-select-board-meeting-6/
LOCATION:Northport Town Office\, 16 Beech Hill Road\, Northport\, ME\, 04849\, United States
CATEGORIES:Select Board Meeting
END:VEVENT
END:VCALENDAR