BEGIN:VCALENDAR
VERSION:2.0
PRODID:-//Town of Northport, Maine - ECPv6.15.17.1//NONSGML v1.0//EN
CALSCALE:GREGORIAN
METHOD:PUBLISH
X-WR-CALNAME:Town of Northport, Maine
X-ORIGINAL-URL:https://northportmaine.org
X-WR-CALDESC:Events for Town of Northport, Maine
REFRESH-INTERVAL;VALUE=DURATION:PT1H
X-Robots-Tag:noindex
X-PUBLISHED-TTL:PT1H
BEGIN:VTIMEZONE
TZID:America/New_York
BEGIN:DAYLIGHT
TZOFFSETFROM:-0500
TZOFFSETTO:-0400
TZNAME:EDT
DTSTART:20240310T070000
END:DAYLIGHT
BEGIN:STANDARD
TZOFFSETFROM:-0400
TZOFFSETTO:-0500
TZNAME:EST
DTSTART:20241103T060000
END:STANDARD
BEGIN:DAYLIGHT
TZOFFSETFROM:-0500
TZOFFSETTO:-0400
TZNAME:EDT
DTSTART:20250309T070000
END:DAYLIGHT
BEGIN:STANDARD
TZOFFSETFROM:-0400
TZOFFSETTO:-0500
TZNAME:EST
DTSTART:20251102T060000
END:STANDARD
BEGIN:DAYLIGHT
TZOFFSETFROM:-0500
TZOFFSETTO:-0400
TZNAME:EDT
DTSTART:20260308T070000
END:DAYLIGHT
BEGIN:STANDARD
TZOFFSETFROM:-0400
TZOFFSETTO:-0500
TZNAME:EST
DTSTART:20261101T060000
END:STANDARD
END:VTIMEZONE
BEGIN:VEVENT
DTSTART;TZID=America/New_York:20250103T080000
DTEND;TZID=America/New_York:20250103T160000
DTSTAMP:20260421T182029
CREATED:20230502T160100Z
LAST-MODIFIED:20240208T193135Z
UID:3528-1735891200-1735920000@northportmaine.org
SUMMARY:Code Enforcement Office Open
DESCRIPTION:The Code Enforcement Office is open Fridays from 8:00am to 4:00pm. Contact the Code Enforcement Officer by email or at 338-3819×5.
URL:https://northportmaine.org/event/code-enforcement-office-open-13/2025-01-03/
CATEGORIES:Code Enforcement
END:VEVENT
BEGIN:VEVENT
DTSTART;TZID=America/New_York:20250110T080000
DTEND;TZID=America/New_York:20250110T160000
DTSTAMP:20260421T182029
CREATED:20230502T160100Z
LAST-MODIFIED:20241231T143956Z
UID:3529-1736496000-1736524800@northportmaine.org
SUMMARY:Code Enforcement Office Closed
DESCRIPTION:The Code Enforcement Office will be closed from January 6th through January 23rd and will reopen on Friday January 24th. Contact the Code Enforcement Officer by email or at 338-3819×5.
URL:https://northportmaine.org/event/code-enforcement-office-open-13-2025-01-10/
CATEGORIES:Code Enforcement
END:VEVENT
BEGIN:VEVENT
DTSTART;TZID=America/New_York:20250117T080000
DTEND;TZID=America/New_York:20250117T160000
DTSTAMP:20260421T182029
CREATED:20230502T160100Z
LAST-MODIFIED:20240208T193136Z
UID:3530-1737100800-1737129600@northportmaine.org
SUMMARY:Code Enforcement Office Open
DESCRIPTION:The Code Enforcement Office is open Fridays from 8:00am to 4:00pm. Contact the Code Enforcement Officer by email or at 338-3819×5.
URL:https://northportmaine.org/event/code-enforcement-office-open-13/2025-01-17/
CATEGORIES:Code Enforcement
END:VEVENT
BEGIN:VEVENT
DTSTART;TZID=America/New_York:20250124T080000
DTEND;TZID=America/New_York:20250124T160000
DTSTAMP:20260421T182029
CREATED:20230502T160100Z
LAST-MODIFIED:20240208T193136Z
UID:3531-1737705600-1737734400@northportmaine.org
SUMMARY:Code Enforcement Office Open
DESCRIPTION:The Code Enforcement Office is open Fridays from 8:00am to 4:00pm. Contact the Code Enforcement Officer by email or at 338-3819×5.
URL:https://northportmaine.org/event/code-enforcement-office-open-13/2025-01-24/
CATEGORIES:Code Enforcement
END:VEVENT
BEGIN:VEVENT
DTSTART;TZID=America/New_York:20250131T080000
DTEND;TZID=America/New_York:20250131T160000
DTSTAMP:20260421T182029
CREATED:20230502T160100Z
LAST-MODIFIED:20240208T193136Z
UID:3532-1738310400-1738339200@northportmaine.org
SUMMARY:Code Enforcement Office Open
DESCRIPTION:The Code Enforcement Office is open Fridays from 8:00am to 4:00pm. Contact the Code Enforcement Officer by email or at 338-3819×5.
URL:https://northportmaine.org/event/code-enforcement-office-open-13/2025-01-31/
CATEGORIES:Code Enforcement
END:VEVENT
END:VCALENDAR