BEGIN:VCALENDAR
VERSION:2.0
PRODID:-//Town of Northport, Maine - ECPv6.15.17.1//NONSGML v1.0//EN
CALSCALE:GREGORIAN
METHOD:PUBLISH
X-WR-CALNAME:Town of Northport, Maine
X-ORIGINAL-URL:https://northportmaine.org
X-WR-CALDESC:Events for Town of Northport, Maine
REFRESH-INTERVAL;VALUE=DURATION:PT1H
X-Robots-Tag:noindex
X-PUBLISHED-TTL:PT1H
BEGIN:VTIMEZONE
TZID:America/New_York
BEGIN:DAYLIGHT
TZOFFSETFROM:-0500
TZOFFSETTO:-0400
TZNAME:EDT
DTSTART:20230312T070000
END:DAYLIGHT
BEGIN:STANDARD
TZOFFSETFROM:-0400
TZOFFSETTO:-0500
TZNAME:EST
DTSTART:20231105T060000
END:STANDARD
BEGIN:DAYLIGHT
TZOFFSETFROM:-0500
TZOFFSETTO:-0400
TZNAME:EDT
DTSTART:20240310T070000
END:DAYLIGHT
BEGIN:STANDARD
TZOFFSETFROM:-0400
TZOFFSETTO:-0500
TZNAME:EST
DTSTART:20241103T060000
END:STANDARD
BEGIN:DAYLIGHT
TZOFFSETFROM:-0500
TZOFFSETTO:-0400
TZNAME:EDT
DTSTART:20250309T070000
END:DAYLIGHT
BEGIN:STANDARD
TZOFFSETFROM:-0400
TZOFFSETTO:-0500
TZNAME:EST
DTSTART:20251102T060000
END:STANDARD
END:VTIMEZONE
BEGIN:VEVENT
DTSTART;TZID=America/New_York:20240503T080000
DTEND;TZID=America/New_York:20240503T160000
DTSTAMP:20260422T095943
CREATED:20230502T160100Z
LAST-MODIFIED:20240208T193121Z
UID:3493-1714723200-1714752000@northportmaine.org
SUMMARY:Code Enforcement Office Open
DESCRIPTION:The Code Enforcement Office is open Fridays from 8:00am to 4:00pm. Contact the Code Enforcement Officer by email or at 338-3819×5.
URL:https://northportmaine.org/event/code-enforcement-office-open-13/2024-05-03/
CATEGORIES:Code Enforcement
END:VEVENT
BEGIN:VEVENT
DTSTART;TZID=America/New_York:20240510T080000
DTEND;TZID=America/New_York:20240510T160000
DTSTAMP:20260422T095943
CREATED:20230502T160100Z
LAST-MODIFIED:20240208T193121Z
UID:3494-1715328000-1715356800@northportmaine.org
SUMMARY:Code Enforcement Office Open
DESCRIPTION:The Code Enforcement Office is open Fridays from 8:00am to 4:00pm. Contact the Code Enforcement Officer by email or at 338-3819×5.
URL:https://northportmaine.org/event/code-enforcement-office-open-13/2024-05-10/
CATEGORIES:Code Enforcement
END:VEVENT
BEGIN:VEVENT
DTSTART;TZID=America/New_York:20240517T080000
DTEND;TZID=America/New_York:20240517T160000
DTSTAMP:20260422T095943
CREATED:20230502T160100Z
LAST-MODIFIED:20240208T193123Z
UID:3495-1715932800-1715961600@northportmaine.org
SUMMARY:Code Enforcement Office Open
DESCRIPTION:The Code Enforcement Office is open Fridays from 8:00am to 4:00pm. Contact the Code Enforcement Officer by email or at 338-3819×5.
URL:https://northportmaine.org/event/code-enforcement-office-open-13/2024-05-17/
CATEGORIES:Code Enforcement
END:VEVENT
BEGIN:VEVENT
DTSTART;TZID=America/New_York:20240524T080000
DTEND;TZID=America/New_York:20240524T160000
DTSTAMP:20260422T095943
CREATED:20230502T160100Z
LAST-MODIFIED:20240517T193434Z
UID:3496-1716537600-1716566400@northportmaine.org
SUMMARY:Code Enforcement Office CLOSED
DESCRIPTION:The Code Enforcement Office is CLOSED on Friday\, May 24\, and will reopen on Friday\, May 31. Contact the Code Enforcement Officer by email or at 338-3819×5.
URL:https://northportmaine.org/event/code-enforcement-office-open-13-2024-05-24/
CATEGORIES:Code Enforcement
END:VEVENT
BEGIN:VEVENT
DTSTART;TZID=America/New_York:20240531T080000
DTEND;TZID=America/New_York:20240531T160000
DTSTAMP:20260422T095943
CREATED:20230502T160100Z
LAST-MODIFIED:20240208T193123Z
UID:3497-1717142400-1717171200@northportmaine.org
SUMMARY:Code Enforcement Office Open
DESCRIPTION:The Code Enforcement Office is open Fridays from 8:00am to 4:00pm. Contact the Code Enforcement Officer by email or at 338-3819×5.
URL:https://northportmaine.org/event/code-enforcement-office-open-13/2024-05-31/
CATEGORIES:Code Enforcement
END:VEVENT
END:VCALENDAR