BEGIN:VCALENDAR
VERSION:2.0
PRODID:-//Town of Northport, Maine - ECPv6.15.17.1//NONSGML v1.0//EN
CALSCALE:GREGORIAN
METHOD:PUBLISH
X-WR-CALNAME:Town of Northport, Maine
X-ORIGINAL-URL:https://northportmaine.org
X-WR-CALDESC:Events for Town of Northport, Maine
REFRESH-INTERVAL;VALUE=DURATION:PT1H
X-Robots-Tag:noindex
X-PUBLISHED-TTL:PT1H
BEGIN:VTIMEZONE
TZID:America/New_York
BEGIN:DAYLIGHT
TZOFFSETFROM:-0500
TZOFFSETTO:-0400
TZNAME:EDT
DTSTART:20230312T070000
END:DAYLIGHT
BEGIN:STANDARD
TZOFFSETFROM:-0400
TZOFFSETTO:-0500
TZNAME:EST
DTSTART:20231105T060000
END:STANDARD
BEGIN:DAYLIGHT
TZOFFSETFROM:-0500
TZOFFSETTO:-0400
TZNAME:EDT
DTSTART:20240310T070000
END:DAYLIGHT
BEGIN:STANDARD
TZOFFSETFROM:-0400
TZOFFSETTO:-0500
TZNAME:EST
DTSTART:20241103T060000
END:STANDARD
BEGIN:DAYLIGHT
TZOFFSETFROM:-0500
TZOFFSETTO:-0400
TZNAME:EDT
DTSTART:20250309T070000
END:DAYLIGHT
BEGIN:STANDARD
TZOFFSETFROM:-0400
TZOFFSETTO:-0500
TZNAME:EST
DTSTART:20251102T060000
END:STANDARD
END:VTIMEZONE
BEGIN:VEVENT
DTSTART;TZID=America/New_York:20240111T183000
DTEND;TZID=America/New_York:20240111T183000
DTSTAMP:20260419T205727
CREATED:20240102T155623Z
LAST-MODIFIED:20240105T210147Z
UID:4249-1704997800-1704997800@northportmaine.org
SUMMARY:Special Town Meeting
DESCRIPTION:The Town of Northport will be holding a Special Town Meeting on Thursday\, January 11\, 2024\, at 6:30pm\, at the Edna Drinkwater School (56 Bayside Road)\, to vote on articles in the warrant\, which is available at this link. \nA copy of the order described in Article 2 is available at this link. \nA copy of the engineer’s report described in Article 2 is available at this link. \nA copy of the lease described in Article 4 is available at this link. \nPlease contact Amy Eldridge\, the Town Clerk\, at 338-3819×2\, with any questions or to request accommodations.
URL:https://northportmaine.org/event/special-town-meeting/
LOCATION:Edna Drinkwater School\, 56 Bayside Road\, Northport\, ME\, 04849\, United States
CATEGORIES:Town Meeting
END:VEVENT
END:VCALENDAR