BEGIN:VCALENDAR
VERSION:2.0
PRODID:-//Town of Northport, Maine - ECPv6.15.17.1//NONSGML v1.0//EN
CALSCALE:GREGORIAN
METHOD:PUBLISH
X-WR-CALNAME:Town of Northport, Maine
X-ORIGINAL-URL:https://northportmaine.org
X-WR-CALDESC:Events for Town of Northport, Maine
REFRESH-INTERVAL;VALUE=DURATION:PT1H
X-Robots-Tag:noindex
X-PUBLISHED-TTL:PT1H
BEGIN:VTIMEZONE
TZID:America/New_York
BEGIN:DAYLIGHT
TZOFFSETFROM:-0500
TZOFFSETTO:-0400
TZNAME:EDT
DTSTART:20220313T070000
END:DAYLIGHT
BEGIN:STANDARD
TZOFFSETFROM:-0400
TZOFFSETTO:-0500
TZNAME:EST
DTSTART:20221106T060000
END:STANDARD
BEGIN:DAYLIGHT
TZOFFSETFROM:-0500
TZOFFSETTO:-0400
TZNAME:EDT
DTSTART:20230312T070000
END:DAYLIGHT
BEGIN:STANDARD
TZOFFSETFROM:-0400
TZOFFSETTO:-0500
TZNAME:EST
DTSTART:20231105T060000
END:STANDARD
BEGIN:DAYLIGHT
TZOFFSETFROM:-0500
TZOFFSETTO:-0400
TZNAME:EDT
DTSTART:20240310T070000
END:DAYLIGHT
BEGIN:STANDARD
TZOFFSETFROM:-0400
TZOFFSETTO:-0500
TZNAME:EST
DTSTART:20241103T060000
END:STANDARD
BEGIN:DAYLIGHT
TZOFFSETFROM:-0500
TZOFFSETTO:-0400
TZNAME:EDT
DTSTART:20250309T070000
END:DAYLIGHT
BEGIN:STANDARD
TZOFFSETFROM:-0400
TZOFFSETTO:-0500
TZNAME:EST
DTSTART:20251102T060000
END:STANDARD
END:VTIMEZONE
BEGIN:VEVENT
DTSTART;TZID=America/New_York:20240307T180000
DTEND;TZID=America/New_York:20240307T180000
DTSTAMP:20260419T175231
CREATED:20240307T142633Z
LAST-MODIFIED:20240307T142633Z
UID:4534-1709834400-1709834400@northportmaine.org
SUMMARY:Recycling Committee Meeting
DESCRIPTION:The Recycling Committee will be meeting on Thursday\, March 7\, at 6pm\, at the Northport Town Office. The agenda is available on the Recycling Committee page.
URL:https://northportmaine.org/event/recycling-committee-meeting-5/
LOCATION:Northport Town Office\, 16 Beech Hill Road\, Northport\, ME\, 04849\, United States
CATEGORIES:Recycling Committee Meeting
END:VEVENT
BEGIN:VEVENT
DTSTART;TZID=America/New_York:20231130T180000
DTEND;TZID=America/New_York:20231130T180000
DTSTAMP:20260419T175231
CREATED:20231130T193604Z
LAST-MODIFIED:20231130T193604Z
UID:4181-1701367200-1701367200@northportmaine.org
SUMMARY:Recycling Committee Meeting
DESCRIPTION:The Recycling Committee will meet on Thursday\, November 30\, at 6:00pm at the Town Office.  The agenda will be posted on the Recycling Committee page.
URL:https://northportmaine.org/event/recycling-committee-meeting-4/
LOCATION:Northport Town Office\, 16 Beech Hill Road\, Northport\, ME\, 04849\, United States
CATEGORIES:Recycling Committee Meeting
END:VEVENT
BEGIN:VEVENT
DTSTART;TZID=America/New_York:20231102T180000
DTEND;TZID=America/New_York:20231102T180000
DTSTAMP:20260419T175231
CREATED:20231101T180051Z
LAST-MODIFIED:20231101T180816Z
UID:4030-1698948000-1698948000@northportmaine.org
SUMMARY:Recycling Committee Meeting
DESCRIPTION:The Recycling Committee will meet on Thursday\, November 2\, at 6:00pm at the Town Office.  The agenda is posted on the Recycling Committee page.
URL:https://northportmaine.org/event/recycling-committee-meeting-3/
LOCATION:Northport Town Office\, 16 Beech Hill Road\, Northport\, ME\, 04849\, United States
CATEGORIES:Recycling Committee Meeting
END:VEVENT
BEGIN:VEVENT
DTSTART;TZID=America/New_York:20231019T180000
DTEND;TZID=America/New_York:20231019T180000
DTSTAMP:20260419T175231
CREATED:20231013T200937Z
LAST-MODIFIED:20231013T200937Z
UID:3984-1697738400-1697738400@northportmaine.org
SUMMARY:Recycling Committee Meeting
DESCRIPTION:The Recycling Committee will meet on Thursday\, October 19\, at 6:00pm at the Town Office.  The agenda will be posted on the Recycling Committee page.
URL:https://northportmaine.org/event/recycling-committee-meeting-2/
LOCATION:Northport Town Office\, 16 Beech Hill Road\, Northport\, ME\, 04849\, United States
CATEGORIES:Recycling Committee Meeting
END:VEVENT
BEGIN:VEVENT
DTSTART;TZID=America/New_York:20231005T180000
DTEND;TZID=America/New_York:20231005T180000
DTSTAMP:20260419T175231
CREATED:20230929T172328Z
LAST-MODIFIED:20230929T173939Z
UID:3957-1696528800-1696528800@northportmaine.org
SUMMARY:Recycling Committee Meeting
DESCRIPTION:The Recycling Committee will meet on Thursday\, October 5\, at 6:00pm at the Town Office.  The agenda will be posted on the Recycling Committee page.
URL:https://northportmaine.org/event/recycling-committee-meeting/
LOCATION:Northport Town Office\, 16 Beech Hill Road\, Northport\, ME\, 04849\, United States
CATEGORIES:Recycling Committee Meeting
END:VEVENT
END:VCALENDAR