BEGIN:VCALENDAR
VERSION:2.0
PRODID:-//Town of Northport, Maine - ECPv6.15.17.1//NONSGML v1.0//EN
CALSCALE:GREGORIAN
METHOD:PUBLISH
X-ORIGINAL-URL:https://northportmaine.org
X-WR-CALDESC:Events for Town of Northport, Maine
REFRESH-INTERVAL;VALUE=DURATION:PT1H
X-Robots-Tag:noindex
X-PUBLISHED-TTL:PT1H
BEGIN:VTIMEZONE
TZID:America/New_York
BEGIN:DAYLIGHT
TZOFFSETFROM:-0500
TZOFFSETTO:-0400
TZNAME:EDT
DTSTART:20210314T070000
END:DAYLIGHT
BEGIN:STANDARD
TZOFFSETFROM:-0400
TZOFFSETTO:-0500
TZNAME:EST
DTSTART:20211107T060000
END:STANDARD
BEGIN:DAYLIGHT
TZOFFSETFROM:-0500
TZOFFSETTO:-0400
TZNAME:EDT
DTSTART:20220313T070000
END:DAYLIGHT
BEGIN:STANDARD
TZOFFSETFROM:-0400
TZOFFSETTO:-0500
TZNAME:EST
DTSTART:20221106T060000
END:STANDARD
BEGIN:DAYLIGHT
TZOFFSETFROM:-0500
TZOFFSETTO:-0400
TZNAME:EDT
DTSTART:20230312T070000
END:DAYLIGHT
BEGIN:STANDARD
TZOFFSETFROM:-0400
TZOFFSETTO:-0500
TZNAME:EST
DTSTART:20231105T060000
END:STANDARD
BEGIN:DAYLIGHT
TZOFFSETFROM:-0500
TZOFFSETTO:-0400
TZNAME:EDT
DTSTART:20240310T070000
END:DAYLIGHT
BEGIN:STANDARD
TZOFFSETFROM:-0400
TZOFFSETTO:-0500
TZNAME:EST
DTSTART:20241103T060000
END:STANDARD
BEGIN:DAYLIGHT
TZOFFSETFROM:-0500
TZOFFSETTO:-0400
TZNAME:EDT
DTSTART:20250309T070000
END:DAYLIGHT
BEGIN:STANDARD
TZOFFSETFROM:-0400
TZOFFSETTO:-0500
TZNAME:EST
DTSTART:20251102T060000
END:STANDARD
BEGIN:DAYLIGHT
TZOFFSETFROM:-0500
TZOFFSETTO:-0400
TZNAME:EDT
DTSTART:20260308T070000
END:DAYLIGHT
BEGIN:STANDARD
TZOFFSETFROM:-0400
TZOFFSETTO:-0500
TZNAME:EST
DTSTART:20261101T060000
END:STANDARD
END:VTIMEZONE
BEGIN:VEVENT
DTSTART;TZID=America/New_York:20251101T103000
DTEND;TZID=America/New_York:20251101T120000
DTSTAMP:20260419T093157
CREATED:20251017T185336Z
LAST-MODIFIED:20251017T185425Z
UID:6287-1761993000-1761998400@northportmaine.org
SUMMARY:Drinkwater Soccer Field Fundraiser Match
DESCRIPTION:Who: Kids vs adults!\nWhen: Saturday 11/1 10:30 am – noon (rain date 11/2 1-2:30 pm)\nWhere: Waldo County YMCA field behind the building \nFrom Shiloh Field and Jo Easton Gaseidnes\, the event organizers: \n“Concessions will be sold and prizes given out! Join us for a fun family event that all are welcome to! \nDo you have a local business? We are looking for game sponsors. Please consider participating! Sponsorships available at levels for everyone. We are very grateful for the support! \nAll sponsors will be recognized during the game\, in promotion\, be listed on banners to be hung on the field once complete\, and will be invited to a celebration for the new field in 2026. Other benefits listed below. \n⚽ Lead Sponsor – $2\,500\nBe the title backer! Event presented as “The Kids vs. Parents Soccer Showdown\, sponsored by [YOU].” Prominent logo placement on banners\, flyers\, and social media\, plus on-field signage during the game. \nKids Team Sponsor – $1\,000\nSupport the next generation! Recognized as “Kids Team Sponsor” in promotions and receive a team photo for your business use. \nParents Team Sponsor – $1\,000\nCheer on the parents! Recognized as “Parents Team Sponsor” in promotions and receive a group photo with the team. \n“Bet on the Kids” Sponsor – $500+\nJoin the “Bet on the Kids” Challenge Club! Businesses and individuals can pledge in support of the kids’ team. Recognition on signage and social media. \nCommunity Supporter – $250\nPerfect for families or small businesses who want to be involved. \nIn-Kind Sponsor\nProvide goods or services—printing\, concessions\, or event promotion—and be recognized as a community partner.” \nVisit the GoFundMe page to learn more or donate.
URL:https://northportmaine.org/event/drinkwater-soccer-field-fundraiser-match/
LOCATION:Waldo County YMCA\, 157 Lincolnville Ave\, Belfast\, ME
CATEGORIES:Community Event
END:VEVENT
BEGIN:VEVENT
DTSTART;TZID=America/New_York:20251031T173000
DTEND;TZID=America/New_York:20251031T190000
DTSTAMP:20260419T093157
CREATED:20251029T142203Z
LAST-MODIFIED:20251029T142203Z
UID:6324-1761931800-1761937200@northportmaine.org
SUMMARY:Halloween Trick-or-Treating
DESCRIPTION:The Northport Village Corporation is organizing Trick or Treating in Bayside! \n\nDate: Friday\, October 31\nTime: 5.30 pm to 7.00pm\nPlace: Merithew Square (the park across from 35 Broadway) at 5.30 pm to pick up maps for Trick or Treat Trail in the heart of Bayside.\n\nFor parking\, please use one of the following places: \n\nParking areas next to Merithew Square ( across from 29 Broadway)\nOn Grove Street (it is a dirt track off Clinton from Broadway on the left)\nAlong Ruggles Park\nBy the wharf\nAlong Broadway
URL:https://northportmaine.org/event/halloween-trick-or-treating/
LOCATION:Merithew Square\, 35 Broadway\, Northport\, ME\, 04849\, United States
CATEGORIES:Community Event
END:VEVENT
BEGIN:VEVENT
DTSTART;TZID=America/New_York:20250921T140000
DTEND;TZID=America/New_York:20250921T160000
DTSTAMP:20260419T093157
CREATED:20250829T183823Z
LAST-MODIFIED:20250913T141509Z
UID:6185-1758463200-1758470400@northportmaine.org
SUMMARY:Northportpalooza!
DESCRIPTION:Join your neighbors for an afternoon celebrating Northport’s community. Fun\, games\, prizes\, touch-a-truck\, and more\, including volunteer opportunities with local non-profits like Northport Food Pantry and Waldo County Woodshed. Free hot dogs\, courtesy of Wentworth’s Family Grocery\, and free ice cream\, courtesy of Darling’s Ice Cream for a Cause. Bring a non-perishable food item for the Northport Food Pantry\, and bring baked goodies to share with all!!\nSee you on Sun 9/21 at 2pm at the Northport Town Office!\n\nInstagram event page.\n\nFacebook event page
URL:https://northportmaine.org/event/northportpalooza/
LOCATION:Northport Town Office\, 16 Beech Hill Road\, Northport\, ME\, 04849\, United States
CATEGORIES:Community Event,Cookout
END:VEVENT
BEGIN:VEVENT
DTSTART;TZID=America/New_York:20250517T080000
DTEND;TZID=America/New_York:20250517T120000
DTSTAMP:20260419T093157
CREATED:20250428T190550Z
LAST-MODIFIED:20250501T172507Z
UID:5614-1747468800-1747483200@northportmaine.org
SUMMARY:4th Annual Roadside Clean-up
DESCRIPTION:Mark your calendars and come join the fun – show up at the Town Office between 8am and 12 noon on Saturday\, May 17\, for trash bags\, dump stickers\, gloves\, and a cup of coffee before heading out to pick up litter along your favorite road! This year’s clean-up day is coordinated by the Resilience Committee. Contact James Kossuth at administrator@northportmaine.org or 338-3819×6 with any questions.
URL:https://northportmaine.org/event/4th-annual-roadside-clean-up/
LOCATION:ME
CATEGORIES:Community Event
END:VEVENT
BEGIN:VEVENT
DTSTART;TZID=America/New_York:20240612T180000
DTEND;TZID=America/New_York:20240612T180000
DTSTAMP:20260419T093157
CREATED:20240605T162647Z
LAST-MODIFIED:20240605T162743Z
UID:4856-1718215200-1718215200@northportmaine.org
SUMMARY:Community Resilience Community Workshop
DESCRIPTION:The Climate Resilience Committee is holding a community workshop at the Drinkwater School on Wednesday\, June 12\, at 6pm\, to discuss ways to protect the Town from and respond to natural and man-made disasters. To help guide the discussion\, the Committee is asking residents to complete a very brief survey\, even if they are unable to attend on the 12th.  Pizza will be provided; please bring your own reusable water bottle.
URL:https://northportmaine.org/event/community-resilience-community-workshop/
LOCATION:Edna Drinkwater School\, 56 Bayside Road\, Northport\, ME\, 04849\, United States
CATEGORIES:Climate Resilience Committee Meeting,Community Event
END:VEVENT
BEGIN:VEVENT
DTSTART;TZID=America/New_York:20240504T090000
DTEND;TZID=America/New_York:20240504T130000
DTSTAMP:20260419T093157
CREATED:20240430T131820Z
LAST-MODIFIED:20240430T131820Z
UID:4685-1714813200-1714827600@northportmaine.org
SUMMARY:Northport Community Church Open House
DESCRIPTION:The Northport Community Church will be holding an open house on Saturday\, May 4\, from 9am to 1pm\, for anyone wishing to walk the property and take a peek inside the church\, ahead of the Annual Town Meeting vote on June 17 whether to accept the gift of the church to the Town. \nPlease see the page about the Church for more information. \nContact James Kossuth at 338-3819×6 with any questions.
URL:https://northportmaine.org/event/northport-community-church-open-house/
LOCATION:Northport Community Church\, 35 Saturday Cove Road\, Northport\, ME\, 04849\, United States
CATEGORIES:Community Event
END:VEVENT
BEGIN:VEVENT
DTSTART;TZID=America/New_York:20240504T080000
DTEND;TZID=America/New_York:20240504T120000
DTSTAMP:20260419T093157
CREATED:20240430T124730Z
LAST-MODIFIED:20240430T124730Z
UID:4681-1714809600-1714824000@northportmaine.org
SUMMARY:Spring Cleanup
DESCRIPTION:The third annual spring cleanup will take place on Saturday\, May 4\, from 8am to 12 noon. Please stop by the Town Office to pick up scones from the Scone Goddess\, trash bags\, dump stickers\, and gloves. Pick up trash near your house\, the beach\, your favorite walking route\, or anywhere that you see it\, and bring the trash bag to the transfer station when you’re done. \nPlease contact James Kossuth at 338-3819×6 with any questions.
URL:https://northportmaine.org/event/spring-cleanup/
LOCATION:Northport Town Office\, 16 Beech Hill Road\, Northport\, ME\, 04849\, United States
CATEGORIES:Community Event
END:VEVENT
BEGIN:VEVENT
DTSTART;TZID=America/New_York:20230614T190000
DTEND;TZID=America/New_York:20230614T190000
DTSTAMP:20260419T093157
CREATED:20230608T142234Z
LAST-MODIFIED:20230608T142234Z
UID:3623-1686769200-1686769200@northportmaine.org
SUMMARY:Meet the Candidates Forum
DESCRIPTION:The Town is hosting a Meet the Candidates forum on Wednesday\, June 14\, at 7:00pm at the Town Office (16 Beech Hill Road). \nThis is your opportunity to meet the candidates for Select Board\, School Board\, and Road Commissioner\, learn more about them\, and ask about their positions on matters important to you. \nThe candidates for Select Board are Stephen J. Hemenway and Molly Schauffler. \nThe candidates for School Board are Shelby Connolly and Mark Lynch (incumbent). \nThe candidate for Road Commissioner is Amon Morse III (incumbent). \nPlease contact James Kossuth at administrator@northportmaine.org or 338-3819×6 with any questions.
URL:https://northportmaine.org/event/meet-the-candidates-forum/
LOCATION:Northport Town Office\, 16 Beech Hill Road\, Northport\, ME\, 04849\, United States
CATEGORIES:Community Event,Election
END:VEVENT
BEGIN:VEVENT
DTSTART;TZID=America/New_York:20230612T180000
DTEND;TZID=America/New_York:20230612T180000
DTSTAMP:20260419T093157
CREATED:20230601T183214Z
LAST-MODIFIED:20230605T172041Z
UID:3602-1686592800-1686592800@northportmaine.org
SUMMARY:Public Workshop
DESCRIPTION:On Monday\, June 12\, at 6pm at the Fire Station\, we are holding a community workshop to help the Town prioritize action areas to increase the Town’s resilience to natural disasters and weather-related events (rainstorms\, coastal flooding\, extreme heat / cold\, etc.)\, as well as help the Town increase energy efficiency and lower energy costs\, both for itself and its residents (think weatherization\, heat pumps\, LED lights\, solar\, etc.). \nThis workshop is part of the Town’s process for applying for grant funding from the state through its Community Resilience Partnership program. The first grant that the Town will be applying for as part of this program will be for engineering and design costs for shoreline stabilization in at least two locations (Auditorium Park and Bayview Park\, and possibly in places along Shore Road). \nThe discussion will include topics from the Community Resilience Self-Evaluation and List of Community Actions.  Reviewing both of these documents before the meeting will be helpful but is not required. \nPlease take this survey\, which will help guide the discussion and the Town’s future actions. \nWe hope that this will be the first part of an ongoing dialogue in which the Town will be asking for help in prioritizing the steps for the Town to take to help prepare for natural disasters\, reduce energy costs\, and save money in the long run. \nThere are lots of funding opportunities flowing to towns like ours from state and federal agencies\, and it would be smart for us to take advantage of them. This workshop will help us figure out where to focus our attention as we move forward. \nFood will be provided. \nContact James Kossuth at administrator@northportmaine.org or 338-3819×6 with any questions or to RSVP (for a headcount for the food).
URL:https://northportmaine.org/event/public-workshop/
LOCATION:Beech Hill Fire Station\, 16 Beech Hill Road\, Northport\, ME\, 04849\, United States
CATEGORIES:Community Event
END:VEVENT
BEGIN:VEVENT
DTSTART;TZID=America/New_York:20230506T080000
DTEND;TZID=America/New_York:20230506T120000
DTSTAMP:20260419T093157
CREATED:20230419T010219Z
LAST-MODIFIED:20230419T010219Z
UID:3165-1683360000-1683374400@northportmaine.org
SUMMARY:Northport Roadside Clean Up Day
DESCRIPTION:Saturday\, May 6\, 2023\, from 8:00 a.m. to 12:00 noon\, we will be having a Northport Clean Up Day. Pick up a garbage bag and dump sticker at the Town Office\, fill your bag with trash from the roadside near your house\, your favorite walking route\, or anywhere you see it\, and then take your full bag to the Transfer Station between 8:00 a.m. and 4:00 p.m. There will be coffee and baked goods at the Town Office\, so make sure you grab something when you stop to pick up your bag. Thank you to our sponsors Hammond Lumber for the garbage bags and the Scone Goddess for the baked goods.
URL:https://northportmaine.org/event/northport-roadside-clean-up-day/
LOCATION:ME
CATEGORIES:Community Event
END:VEVENT
BEGIN:VEVENT
DTSTART;TZID=America/New_York:20221015T110000
DTEND;TZID=America/New_York:20221015T130000
DTSTAMP:20260419T093157
CREATED:20221013T165118Z
LAST-MODIFIED:20221020T183458Z
UID:2127-1665831600-1665838800@northportmaine.org
SUMMARY:Touch a Truck
DESCRIPTION:To wrap up fire prevention week\, the Northport Fire Department is hosting a “touch a truck” event at the Edna Drinkwater School on Saturday\, October 15\, 2022\, from 11:00 a.m. to 1:00 p.m. They will have trucks available to explore\, a live fire hose and target\, roll-a-hose relays\, tug of war\, gear donning\, a free hot dog lunch and some fun giveaways. Stop by the Edna Drinkwater School and “touch a truck”. This is open to all kids from birth to 100.\n\nA great time was had by all — thank you for coming\, and we hope to see you next time!
URL:https://northportmaine.org/event/touch-a-truck/
LOCATION:Edna Drinkwater School\, 56 Bayside Road\, Northport\, ME\, 04849\, United States
CATEGORIES:Community Event,Cookout
END:VEVENT
END:VCALENDAR