BEGIN:VCALENDAR
VERSION:2.0
PRODID:-//Town of Northport, Maine - ECPv6.15.17.1//NONSGML v1.0//EN
CALSCALE:GREGORIAN
METHOD:PUBLISH
X-WR-CALNAME:Town of Northport, Maine
X-ORIGINAL-URL:https://northportmaine.org
X-WR-CALDESC:Events for Town of Northport, Maine
REFRESH-INTERVAL;VALUE=DURATION:PT1H
X-Robots-Tag:noindex
X-PUBLISHED-TTL:PT1H
BEGIN:VTIMEZONE
TZID:America/New_York
BEGIN:DAYLIGHT
TZOFFSETFROM:-0500
TZOFFSETTO:-0400
TZNAME:EDT
DTSTART:20240310T070000
END:DAYLIGHT
BEGIN:STANDARD
TZOFFSETFROM:-0400
TZOFFSETTO:-0500
TZNAME:EST
DTSTART:20241103T060000
END:STANDARD
BEGIN:DAYLIGHT
TZOFFSETFROM:-0500
TZOFFSETTO:-0400
TZNAME:EDT
DTSTART:20250309T070000
END:DAYLIGHT
BEGIN:STANDARD
TZOFFSETFROM:-0400
TZOFFSETTO:-0500
TZNAME:EST
DTSTART:20251102T060000
END:STANDARD
BEGIN:DAYLIGHT
TZOFFSETFROM:-0500
TZOFFSETTO:-0400
TZNAME:EDT
DTSTART:20260308T070000
END:DAYLIGHT
BEGIN:STANDARD
TZOFFSETFROM:-0400
TZOFFSETTO:-0500
TZNAME:EST
DTSTART:20261101T060000
END:STANDARD
END:VTIMEZONE
BEGIN:VEVENT
DTSTART;TZID=America/New_York:20250207T080000
DTEND;TZID=America/New_York:20250207T160000
DTSTAMP:20260419T175758
CREATED:20230502T160100Z
LAST-MODIFIED:20240208T193137Z
UID:3533-1738915200-1738944000@northportmaine.org
SUMMARY:Code Enforcement Office Open
DESCRIPTION:The Code Enforcement Office is open Fridays from 8:00am to 4:00pm. Contact the Code Enforcement Officer by email or at 338-3819×5.
URL:https://northportmaine.org/event/code-enforcement-office-open-13/2025-02-07/
CATEGORIES:Code Enforcement
END:VEVENT
BEGIN:VEVENT
DTSTART;TZID=America/New_York:20250211T180000
DTEND;TZID=America/New_York:20250211T180000
DTSTAMP:20260419T175758
CREATED:20220804T180723Z
LAST-MODIFIED:20260311T145852Z
UID:6845-1739296800-1739296800@northportmaine.org
SUMMARY:Planning Board meeting
DESCRIPTION:Monthly meeting of the Planning Board at Northport Town Office on the second Tuesday of the month at 6:00pm. \nMeeting agendas are available on the Planning Board page.
URL:https://northportmaine.org/event/planning-board-meeting-2/2025-02-11/
LOCATION:Northport Town Office\, 16 Beech Hill Road\, Northport\, ME\, 04849\, United States
CATEGORIES:Planning Board
END:VEVENT
BEGIN:VEVENT
DTSTART;TZID=America/New_York:20250214T080000
DTEND;TZID=America/New_York:20250214T160000
DTSTAMP:20260419T175758
CREATED:20230502T160100Z
LAST-MODIFIED:20240208T193137Z
UID:3534-1739520000-1739548800@northportmaine.org
SUMMARY:Code Enforcement Office Open
DESCRIPTION:The Code Enforcement Office is open Fridays from 8:00am to 4:00pm. Contact the Code Enforcement Officer by email or at 338-3819×5.
URL:https://northportmaine.org/event/code-enforcement-office-open-13/2025-02-14/
CATEGORIES:Code Enforcement
END:VEVENT
BEGIN:VEVENT
DTSTART;TZID=America/New_York:20250221T080000
DTEND;TZID=America/New_York:20250221T160000
DTSTAMP:20260419T175758
CREATED:20230502T160100Z
LAST-MODIFIED:20240208T193138Z
UID:3535-1740124800-1740153600@northportmaine.org
SUMMARY:Code Enforcement Office Open
DESCRIPTION:The Code Enforcement Office is open Fridays from 8:00am to 4:00pm. Contact the Code Enforcement Officer by email or at 338-3819×5.
URL:https://northportmaine.org/event/code-enforcement-office-open-13/2025-02-21/
CATEGORIES:Code Enforcement
END:VEVENT
BEGIN:VEVENT
DTSTART;TZID=America/New_York:20250228T080000
DTEND;TZID=America/New_York:20250228T160000
DTSTAMP:20260419T175758
CREATED:20230502T160100Z
LAST-MODIFIED:20240208T193138Z
UID:3536-1740729600-1740758400@northportmaine.org
SUMMARY:Code Enforcement Office Open
DESCRIPTION:The Code Enforcement Office is open Fridays from 8:00am to 4:00pm. Contact the Code Enforcement Officer by email or at 338-3819×5.
URL:https://northportmaine.org/event/code-enforcement-office-open-13/2025-02-28/
CATEGORIES:Code Enforcement
END:VEVENT
END:VCALENDAR