BEGIN:VCALENDAR
VERSION:2.0
PRODID:-//Town of Northport, Maine - ECPv6.15.17.1//NONSGML v1.0//EN
CALSCALE:GREGORIAN
METHOD:PUBLISH
X-ORIGINAL-URL:https://northportmaine.org
X-WR-CALDESC:Events for Town of Northport, Maine
REFRESH-INTERVAL;VALUE=DURATION:PT1H
X-Robots-Tag:noindex
X-PUBLISHED-TTL:PT1H
BEGIN:VTIMEZONE
TZID:America/New_York
BEGIN:DAYLIGHT
TZOFFSETFROM:-0500
TZOFFSETTO:-0400
TZNAME:EDT
DTSTART:20220313T070000
END:DAYLIGHT
BEGIN:STANDARD
TZOFFSETFROM:-0400
TZOFFSETTO:-0500
TZNAME:EST
DTSTART:20221106T060000
END:STANDARD
BEGIN:DAYLIGHT
TZOFFSETFROM:-0500
TZOFFSETTO:-0400
TZNAME:EDT
DTSTART:20230312T070000
END:DAYLIGHT
BEGIN:STANDARD
TZOFFSETFROM:-0400
TZOFFSETTO:-0500
TZNAME:EST
DTSTART:20231105T060000
END:STANDARD
BEGIN:DAYLIGHT
TZOFFSETFROM:-0500
TZOFFSETTO:-0400
TZNAME:EDT
DTSTART:20240310T070000
END:DAYLIGHT
BEGIN:STANDARD
TZOFFSETFROM:-0400
TZOFFSETTO:-0500
TZNAME:EST
DTSTART:20241103T060000
END:STANDARD
BEGIN:DAYLIGHT
TZOFFSETFROM:-0500
TZOFFSETTO:-0400
TZNAME:EDT
DTSTART:20250309T070000
END:DAYLIGHT
BEGIN:STANDARD
TZOFFSETFROM:-0400
TZOFFSETTO:-0500
TZNAME:EST
DTSTART:20251102T060000
END:STANDARD
END:VTIMEZONE
BEGIN:VEVENT
DTSTART;TZID=America/New_York:20240904T100000
DTEND;TZID=America/New_York:20240904T100000
DTSTAMP:20260419T164348
CREATED:20240903T124422Z
LAST-MODIFIED:20240903T124422Z
UID:5093-1725444000-1725444000@northportmaine.org
SUMMARY:Climate Resilience Committee Meeting
DESCRIPTION:The Climate Resilience Committee will be meeting on Wednesday\, September 4\, at 10:00am\, at the Community Hall (813 Shore Road). Agendas are available on the Committee’s website. Please contact James Kossuth at 338-3819×6 with any questions.
URL:https://northportmaine.org/event/climate-resilience-committee-meeting-8/
LOCATION:Community Hall\, 813 Shore Road\, Northport\, Maine\, 04849
CATEGORIES:Climate Resilience Committee Meeting
END:VEVENT
BEGIN:VEVENT
DTSTART;TZID=America/New_York:20240816T103000
DTEND;TZID=America/New_York:20240816T103000
DTSTAMP:20260419T164348
CREATED:20240725T173128Z
LAST-MODIFIED:20240725T173324Z
UID:4973-1723804200-1723804200@northportmaine.org
SUMMARY:Climate Resilience Committee Meeting
DESCRIPTION:The Climate Resilience Committee will be meeting on Friday\, August 16\, at 10.30am\, at the Town Office. Agendas are available on the Committee’s website. Please contact James Kossuth at 338-3819×6 with any questions.
URL:https://northportmaine.org/event/climate-resilience-committee-meeting-7/
LOCATION:Northport Town Office\, 16 Beech Hill Road\, Northport\, ME\, 04849\, United States
CATEGORIES:Climate Resilience Committee Meeting
END:VEVENT
BEGIN:VEVENT
DTSTART;TZID=America/New_York:20240703T100000
DTEND;TZID=America/New_York:20240703T100000
DTSTAMP:20260419T164348
CREATED:20240628T162359Z
LAST-MODIFIED:20240628T162359Z
UID:4921-1720000800-1720000800@northportmaine.org
SUMMARY:Climate Resilience Committee Meeting
DESCRIPTION:The Climate Resilience Committee will be meeting on Wednesday\, July 3\, at 10am\, at the Community Hall (813 Shore Road). Agendas are available on the Committee’s website. Please contact James Kossuth at 338-3819×6 with any questions or to request a Zoom link.
URL:https://northportmaine.org/event/climate-resilience-committee-meeting-6/
LOCATION:Community Hall\, 813 Shore Road\, Northport\, Maine\, 04849
CATEGORIES:Climate Resilience Committee Meeting
END:VEVENT
BEGIN:VEVENT
DTSTART;TZID=America/New_York:20240612T180000
DTEND;TZID=America/New_York:20240612T180000
DTSTAMP:20260419T164348
CREATED:20240605T162647Z
LAST-MODIFIED:20240605T162743Z
UID:4856-1718215200-1718215200@northportmaine.org
SUMMARY:Community Resilience Community Workshop
DESCRIPTION:The Climate Resilience Committee is holding a community workshop at the Drinkwater School on Wednesday\, June 12\, at 6pm\, to discuss ways to protect the Town from and respond to natural and man-made disasters. To help guide the discussion\, the Committee is asking residents to complete a very brief survey\, even if they are unable to attend on the 12th.  Pizza will be provided; please bring your own reusable water bottle.
URL:https://northportmaine.org/event/community-resilience-community-workshop/
LOCATION:Edna Drinkwater School\, 56 Bayside Road\, Northport\, ME\, 04849\, United States
CATEGORIES:Climate Resilience Committee Meeting,Community Event
END:VEVENT
BEGIN:VEVENT
DTSTART;TZID=America/New_York:20240605T100000
DTEND;TZID=America/New_York:20240605T100000
DTSTAMP:20260419T164348
CREATED:20240604T193739Z
LAST-MODIFIED:20240604T193739Z
UID:4853-1717581600-1717581600@northportmaine.org
SUMMARY:Climate Resilience Committee Meeting
DESCRIPTION:The Climate Resilience Committee will be meeting on Wednesday\, June 5\, at 10am\, at the Community Hall (813 Shore Road). Agendas are available on the Committee’s website. Please contact James Kossuth at 338-3819×6 with any questions or to request a Zoom link.
URL:https://northportmaine.org/event/climate-resilience-committee-meeting-5/
LOCATION:Community Hall\, 813 Shore Road\, Northport\, Maine\, 04849
CATEGORIES:Climate Resilience Committee Meeting
END:VEVENT
BEGIN:VEVENT
DTSTART;TZID=America/New_York:20240501T100000
DTEND;TZID=America/New_York:20240501T100000
DTSTAMP:20260419T164348
CREATED:20240430T135423Z
LAST-MODIFIED:20240430T140332Z
UID:4698-1714557600-1714557600@northportmaine.org
SUMMARY:Climate Resilience Committee Meeting
DESCRIPTION:The Climate Resilience Committee will be meeting on Wednesday\, May 1\, at 10am\, at the Community Hall (813 Shore Road). Agendas are available on the Committee’s website. Please contact James Kossuth at 338-3819×6 with any questions.
URL:https://northportmaine.org/event/climate-resilience-committee-meeting-4/
LOCATION:Community Hall\, 813 Shore Road\, Northport\, Maine\, 04849
CATEGORIES:Climate Resilience Committee Meeting
END:VEVENT
BEGIN:VEVENT
DTSTART;TZID=America/New_York:20240320T100000
DTEND;TZID=America/New_York:20240320T100000
DTSTAMP:20260419T164348
CREATED:20240308T195723Z
LAST-MODIFIED:20240308T195723Z
UID:4540-1710928800-1710928800@northportmaine.org
SUMMARY:Climate Resilience Committee Meeting
DESCRIPTION:The Climate Resilience Committee will be meeting at 10:00am on Wednesday\, March 20\, at the Northport Village Office (813 Shore Road). The agenda will be posted on the Committee’s webpage.
URL:https://northportmaine.org/event/climate-resilience-committee-meeting-3/
LOCATION:Community Hall\, 813 Shore Road\, Northport\, Maine\, 04849
CATEGORIES:Climate Resilience Committee Meeting
END:VEVENT
BEGIN:VEVENT
DTSTART;TZID=America/New_York:20231213T100000
DTEND;TZID=America/New_York:20231213T100000
DTSTAMP:20260419T164348
CREATED:20231130T194330Z
LAST-MODIFIED:20231130T194330Z
UID:4184-1702461600-1702461600@northportmaine.org
SUMMARY:Climate Resilience Committee Meeting
DESCRIPTION:The Climate Resilience Committee will be meeting on Wednesday\, December 13\, at 10:00am at the Community Hall (813 Shore Road). An agenda will be posted on the Climate Resilience Committee page when it becomes available.
URL:https://northportmaine.org/event/climate-resilience-committee-meeting-2/
LOCATION:Community Hall\, 813 Shore Road\, Northport\, Maine\, 04849
CATEGORIES:Climate Resilience Committee Meeting
END:VEVENT
BEGIN:VEVENT
DTSTART;TZID=America/New_York:20231115T100000
DTEND;TZID=America/New_York:20231115T100000
DTSTAMP:20260419T164348
CREATED:20231101T192431Z
LAST-MODIFIED:20231101T192510Z
UID:4035-1700042400-1700042400@northportmaine.org
SUMMARY:Climate Resilience Committee Meeting
DESCRIPTION:The Climate Resilience Committee will be meeting on Wednesday\, November 15\, at 10:00am at the Community Hall (813 Shore Road). An agenda will be posted on the Climate Resilience Committee page when it becomes available.
URL:https://northportmaine.org/event/climate-resilience-committee-meeting/
LOCATION:Community Hall\, 813 Shore Road\, Northport\, Maine\, 04849
CATEGORIES:Climate Resilience Committee Meeting
END:VEVENT
END:VCALENDAR