BEGIN:VCALENDAR
VERSION:2.0
PRODID:-//Town of Northport, Maine - ECPv6.15.17.1//NONSGML v1.0//EN
CALSCALE:GREGORIAN
METHOD:PUBLISH
X-ORIGINAL-URL:https://northportmaine.org
X-WR-CALDESC:Events for Town of Northport, Maine
REFRESH-INTERVAL;VALUE=DURATION:PT1H
X-Robots-Tag:noindex
X-PUBLISHED-TTL:PT1H
BEGIN:VTIMEZONE
TZID:America/New_York
BEGIN:DAYLIGHT
TZOFFSETFROM:-0500
TZOFFSETTO:-0400
TZNAME:EDT
DTSTART:20230312T070000
END:DAYLIGHT
BEGIN:STANDARD
TZOFFSETFROM:-0400
TZOFFSETTO:-0500
TZNAME:EST
DTSTART:20231105T060000
END:STANDARD
BEGIN:DAYLIGHT
TZOFFSETFROM:-0500
TZOFFSETTO:-0400
TZNAME:EDT
DTSTART:20240310T070000
END:DAYLIGHT
BEGIN:STANDARD
TZOFFSETFROM:-0400
TZOFFSETTO:-0500
TZNAME:EST
DTSTART:20241103T060000
END:STANDARD
BEGIN:DAYLIGHT
TZOFFSETFROM:-0500
TZOFFSETTO:-0400
TZNAME:EDT
DTSTART:20250309T070000
END:DAYLIGHT
BEGIN:STANDARD
TZOFFSETFROM:-0400
TZOFFSETTO:-0500
TZNAME:EST
DTSTART:20251102T060000
END:STANDARD
BEGIN:DAYLIGHT
TZOFFSETFROM:-0500
TZOFFSETTO:-0400
TZNAME:EDT
DTSTART:20260308T070000
END:DAYLIGHT
BEGIN:STANDARD
TZOFFSETFROM:-0400
TZOFFSETTO:-0500
TZNAME:EST
DTSTART:20261101T060000
END:STANDARD
BEGIN:DAYLIGHT
TZOFFSETFROM:-0500
TZOFFSETTO:-0400
TZNAME:EDT
DTSTART:20270314T070000
END:DAYLIGHT
BEGIN:STANDARD
TZOFFSETFROM:-0400
TZOFFSETTO:-0500
TZNAME:EST
DTSTART:20271107T060000
END:STANDARD
END:VTIMEZONE
BEGIN:VEVENT
DTSTART;TZID=America/New_York:20260413T181500
DTEND;TZID=America/New_York:20260413T181500
DTSTAMP:20260419T074848
CREATED:20220816T193546Z
LAST-MODIFIED:20220816T193546Z
UID:4657-1776104100-1776104100@northportmaine.org
SUMMARY:Select Board Meeting
DESCRIPTION:The Select Board meets on the 2nd and 4th Monday of each month at 6:15pm at the Town Office. Agendas are available here. Contact the Town Administrator by the Wednesday before the meeting if you wish to add an item to the agenda.
URL:https://northportmaine.org/event/select-board-meeting-4-2022-09-12/2026-04-13/
LOCATION:Northport Town Office\, 16 Beech Hill Road\, Northport\, ME\, 04849\, United States
CATEGORIES:Select Board Meeting
END:VEVENT
BEGIN:VEVENT
DTSTART;TZID=America/New_York:20260309T181500
DTEND;TZID=America/New_York:20260309T181500
DTSTAMP:20260419T074848
CREATED:20220816T193546Z
LAST-MODIFIED:20220816T193546Z
UID:4548-1773080100-1773080100@northportmaine.org
SUMMARY:Select Board Meeting
DESCRIPTION:The Select Board meets on the 2nd and 4th Monday of each month at 6:15pm at the Town Office. Agendas are available here. Contact the Town Administrator by the Wednesday before the meeting if you wish to add an item to the agenda.
URL:https://northportmaine.org/event/select-board-meeting-4-2022-09-12/2026-03-09/
LOCATION:Northport Town Office\, 16 Beech Hill Road\, Northport\, ME\, 04849\, United States
CATEGORIES:Select Board Meeting
END:VEVENT
BEGIN:VEVENT
DTSTART;TZID=America/New_York:20260209T181500
DTEND;TZID=America/New_York:20260209T181500
DTSTAMP:20260419T074848
CREATED:20220816T193546Z
LAST-MODIFIED:20220816T193546Z
UID:4502-1770660900-1770660900@northportmaine.org
SUMMARY:Select Board Meeting
DESCRIPTION:The Select Board meets on the 2nd and 4th Monday of each month at 6:15pm at the Town Office. Agendas are available here. Contact the Town Administrator by the Wednesday before the meeting if you wish to add an item to the agenda.
URL:https://northportmaine.org/event/select-board-meeting-4-2022-09-12/2026-02-09/
LOCATION:Northport Town Office\, 16 Beech Hill Road\, Northport\, ME\, 04849\, United States
CATEGORIES:Select Board Meeting
END:VEVENT
BEGIN:VEVENT
DTSTART;TZID=America/New_York:20260112T181500
DTEND;TZID=America/New_York:20260112T181500
DTSTAMP:20260419T074848
CREATED:20220816T193546Z
LAST-MODIFIED:20220816T193546Z
UID:4298-1768241700-1768241700@northportmaine.org
SUMMARY:Select Board Meeting
DESCRIPTION:The Select Board meets on the 2nd and 4th Monday of each month at 6:15pm at the Town Office. Agendas are available here. Contact the Town Administrator by the Wednesday before the meeting if you wish to add an item to the agenda.
URL:https://northportmaine.org/event/select-board-meeting-4-2022-09-12/2026-01-12/
LOCATION:Northport Town Office\, 16 Beech Hill Road\, Northport\, ME\, 04849\, United States
CATEGORIES:Select Board Meeting
END:VEVENT
BEGIN:VEVENT
DTSTART;TZID=America/New_York:20251208T181500
DTEND;TZID=America/New_York:20251208T181500
DTSTAMP:20260419T074848
CREATED:20220816T193546Z
LAST-MODIFIED:20220816T193546Z
UID:4196-1765217700-1765217700@northportmaine.org
SUMMARY:Select Board Meeting
DESCRIPTION:The Select Board meets on the 2nd and 4th Monday of each month at 6:15pm at the Town Office. Agendas are available here. Contact the Town Administrator by the Wednesday before the meeting if you wish to add an item to the agenda.
URL:https://northportmaine.org/event/select-board-meeting-4-2022-09-12/2025-12-08/
LOCATION:Northport Town Office\, 16 Beech Hill Road\, Northport\, ME\, 04849\, United States
CATEGORIES:Select Board Meeting
END:VEVENT
BEGIN:VEVENT
DTSTART;TZID=America/New_York:20251110T181500
DTEND;TZID=America/New_York:20251110T181500
DTSTAMP:20260419T074848
CREATED:20220816T193546Z
LAST-MODIFIED:20220816T193546Z
UID:4051-1762798500-1762798500@northportmaine.org
SUMMARY:Select Board Meeting
DESCRIPTION:The Select Board meets on the 2nd and 4th Monday of each month at 6:15pm at the Town Office. Agendas are available here. Contact the Town Administrator by the Wednesday before the meeting if you wish to add an item to the agenda.
URL:https://northportmaine.org/event/select-board-meeting-4-2022-09-12/2025-11-10/
LOCATION:Northport Town Office\, 16 Beech Hill Road\, Northport\, ME\, 04849\, United States
CATEGORIES:Select Board Meeting
END:VEVENT
BEGIN:VEVENT
DTSTART;TZID=America/New_York:20250908T181500
DTEND;TZID=America/New_York:20250908T181500
DTSTAMP:20260419T074848
CREATED:20220816T193546Z
LAST-MODIFIED:20220816T193546Z
UID:3929-1757355300-1757355300@northportmaine.org
SUMMARY:Select Board Meeting
DESCRIPTION:The Select Board meets on the 2nd and 4th Monday of each month at 6:15pm at the Town Office. Agendas are available here. Contact the Town Administrator by the Wednesday before the meeting if you wish to add an item to the agenda.
URL:https://northportmaine.org/event/select-board-meeting-4-2022-09-12/2025-09-08/
LOCATION:Northport Town Office\, 16 Beech Hill Road\, Northport\, ME\, 04849\, United States
CATEGORIES:Select Board Meeting
END:VEVENT
BEGIN:VEVENT
DTSTART;TZID=America/New_York:20250811T181500
DTEND;TZID=America/New_York:20250811T181500
DTSTAMP:20260419T074848
CREATED:20220816T193546Z
LAST-MODIFIED:20220816T193546Z
UID:3852-1754936100-1754936100@northportmaine.org
SUMMARY:Select Board Meeting
DESCRIPTION:The Select Board meets on the 2nd and 4th Monday of each month at 6:15pm at the Town Office. Agendas are available here. Contact the Town Administrator by the Wednesday before the meeting if you wish to add an item to the agenda.
URL:https://northportmaine.org/event/select-board-meeting-4-2022-09-12/2025-08-11/
LOCATION:Northport Town Office\, 16 Beech Hill Road\, Northport\, ME\, 04849\, United States
CATEGORIES:Select Board Meeting
END:VEVENT
BEGIN:VEVENT
DTSTART;TZID=America/New_York:20250714T181500
DTEND;TZID=America/New_York:20250714T181500
DTSTAMP:20260419T074848
CREATED:20220816T193546Z
LAST-MODIFIED:20220816T193546Z
UID:3801-1752516900-1752516900@northportmaine.org
SUMMARY:Select Board Meeting
DESCRIPTION:The Select Board meets on the 2nd and 4th Monday of each month at 6:15pm at the Town Office. Agendas are available here. Contact the Town Administrator by the Wednesday before the meeting if you wish to add an item to the agenda.
URL:https://northportmaine.org/event/select-board-meeting-4-2022-09-12/2025-07-14/
LOCATION:Northport Town Office\, 16 Beech Hill Road\, Northport\, ME\, 04849\, United States
CATEGORIES:Select Board Meeting
END:VEVENT
BEGIN:VEVENT
DTSTART;TZID=America/New_York:20250623T181500
DTEND;TZID=America/New_York:20250623T181500
DTSTAMP:20260419T074848
CREATED:20220816T193546Z
LAST-MODIFIED:20220816T193546Z
UID:3754-1750702500-1750702500@northportmaine.org
SUMMARY:Select Board Meeting
DESCRIPTION:The Select Board meets on the 2nd and 4th Monday of each month at 6:15pm at the Town Office. Agendas are available here. Contact the Town Administrator by the Wednesday before the meeting if you wish to add an item to the agenda.
URL:https://northportmaine.org/event/select-board-meeting-4-2022-09-12/2025-06-23/
LOCATION:Northport Town Office\, 16 Beech Hill Road\, Northport\, ME\, 04849\, United States
CATEGORIES:Select Board Meeting
END:VEVENT
BEGIN:VEVENT
DTSTART;TZID=America/New_York:20250609T181500
DTEND;TZID=America/New_York:20250609T181500
DTSTAMP:20260419T074848
CREATED:20220816T193546Z
LAST-MODIFIED:20220816T193546Z
UID:3753-1749492900-1749492900@northportmaine.org
SUMMARY:Select Board Meeting
DESCRIPTION:The Select Board meets on the 2nd and 4th Monday of each month at 6:15pm at the Town Office. Agendas are available here. Contact the Town Administrator by the Wednesday before the meeting if you wish to add an item to the agenda.
URL:https://northportmaine.org/event/select-board-meeting-4-2022-09-12/2025-06-09/
LOCATION:Northport Town Office\, 16 Beech Hill Road\, Northport\, ME\, 04849\, United States
CATEGORIES:Select Board Meeting
END:VEVENT
BEGIN:VEVENT
DTSTART;TZID=America/New_York:20250428T181500
DTEND;TZID=America/New_York:20250428T181500
DTSTAMP:20260419T074848
CREATED:20220816T193546Z
LAST-MODIFIED:20220816T193546Z
UID:3750-1745864100-1745864100@northportmaine.org
SUMMARY:Select Board Meeting
DESCRIPTION:The Select Board meets on the 2nd and 4th Monday of each month at 6:15pm at the Town Office. Agendas are available here. Contact the Town Administrator by the Wednesday before the meeting if you wish to add an item to the agenda.
URL:https://northportmaine.org/event/select-board-meeting-4-2022-09-12/2025-04-28/
LOCATION:Northport Town Office\, 16 Beech Hill Road\, Northport\, ME\, 04849\, United States
CATEGORIES:Select Board Meeting
END:VEVENT
BEGIN:VEVENT
DTSTART;TZID=America/New_York:20250414T181500
DTEND;TZID=America/New_York:20250414T181500
DTSTAMP:20260419T074848
CREATED:20220816T193546Z
LAST-MODIFIED:20220816T193546Z
UID:3749-1744654500-1744654500@northportmaine.org
SUMMARY:Select Board Meeting
DESCRIPTION:The Select Board meets on the 2nd and 4th Monday of each month at 6:15pm at the Town Office. Agendas are available here. Contact the Town Administrator by the Wednesday before the meeting if you wish to add an item to the agenda.
URL:https://northportmaine.org/event/select-board-meeting-4-2022-09-12/2025-04-14/
LOCATION:Northport Town Office\, 16 Beech Hill Road\, Northport\, ME\, 04849\, United States
CATEGORIES:Select Board Meeting
END:VEVENT
BEGIN:VEVENT
DTSTART;TZID=America/New_York:20250324T181500
DTEND;TZID=America/New_York:20250324T181500
DTSTAMP:20260419T074848
CREATED:20220816T193546Z
LAST-MODIFIED:20220816T193546Z
UID:3748-1742840100-1742840100@northportmaine.org
SUMMARY:Select Board Meeting
DESCRIPTION:The Select Board meets on the 2nd and 4th Monday of each month at 6:15pm at the Town Office. Agendas are available here. Contact the Town Administrator by the Wednesday before the meeting if you wish to add an item to the agenda.
URL:https://northportmaine.org/event/select-board-meeting-4-2022-09-12/2025-03-24/
LOCATION:Northport Town Office\, 16 Beech Hill Road\, Northport\, ME\, 04849\, United States
CATEGORIES:Select Board Meeting
END:VEVENT
BEGIN:VEVENT
DTSTART;TZID=America/New_York:20250310T181500
DTEND;TZID=America/New_York:20250310T181500
DTSTAMP:20260419T074848
CREATED:20220816T193546Z
LAST-MODIFIED:20220816T193546Z
UID:3747-1741630500-1741630500@northportmaine.org
SUMMARY:Select Board Meeting
DESCRIPTION:The Select Board meets on the 2nd and 4th Monday of each month at 6:15pm at the Town Office. Agendas are available here. Contact the Town Administrator by the Wednesday before the meeting if you wish to add an item to the agenda.
URL:https://northportmaine.org/event/select-board-meeting-4-2022-09-12/2025-03-10/
LOCATION:Northport Town Office\, 16 Beech Hill Road\, Northport\, ME\, 04849\, United States
CATEGORIES:Select Board Meeting
END:VEVENT
BEGIN:VEVENT
DTSTART;TZID=America/New_York:20250224T181500
DTEND;TZID=America/New_York:20250224T181500
DTSTAMP:20260419T074848
CREATED:20220816T193546Z
LAST-MODIFIED:20220816T193546Z
UID:3746-1740420900-1740420900@northportmaine.org
SUMMARY:Select Board Meeting
DESCRIPTION:The Select Board meets on the 2nd and 4th Monday of each month at 6:15pm at the Town Office. Agendas are available here. Contact the Town Administrator by the Wednesday before the meeting if you wish to add an item to the agenda.
URL:https://northportmaine.org/event/select-board-meeting-4-2022-09-12/2025-02-24/
LOCATION:Northport Town Office\, 16 Beech Hill Road\, Northport\, ME\, 04849\, United States
CATEGORIES:Select Board Meeting
END:VEVENT
BEGIN:VEVENT
DTSTART;TZID=America/New_York:20250210T181500
DTEND;TZID=America/New_York:20250210T181500
DTSTAMP:20260419T074848
CREATED:20220816T193546Z
LAST-MODIFIED:20220816T193546Z
UID:3745-1739211300-1739211300@northportmaine.org
SUMMARY:Select Board Meeting
DESCRIPTION:The Select Board meets on the 2nd and 4th Monday of each month at 6:15pm at the Town Office. Agendas are available here. Contact the Town Administrator by the Wednesday before the meeting if you wish to add an item to the agenda.
URL:https://northportmaine.org/event/select-board-meeting-4-2022-09-12/2025-02-10/
LOCATION:Northport Town Office\, 16 Beech Hill Road\, Northport\, ME\, 04849\, United States
CATEGORIES:Select Board Meeting
END:VEVENT
BEGIN:VEVENT
DTSTART;TZID=America/New_York:20250127T181500
DTEND;TZID=America/New_York:20250127T181500
DTSTAMP:20260419T074848
CREATED:20220816T193546Z
LAST-MODIFIED:20220816T193546Z
UID:3744-1738001700-1738001700@northportmaine.org
SUMMARY:Select Board Meeting
DESCRIPTION:The Select Board meets on the 2nd and 4th Monday of each month at 6:15pm at the Town Office. Agendas are available here. Contact the Town Administrator by the Wednesday before the meeting if you wish to add an item to the agenda.
URL:https://northportmaine.org/event/select-board-meeting-4-2022-09-12/2025-01-27/
LOCATION:Northport Town Office\, 16 Beech Hill Road\, Northport\, ME\, 04849\, United States
CATEGORIES:Select Board Meeting
END:VEVENT
BEGIN:VEVENT
DTSTART;TZID=America/New_York:20250113T181500
DTEND;TZID=America/New_York:20250113T181500
DTSTAMP:20260419T074848
CREATED:20220816T193546Z
LAST-MODIFIED:20220816T193546Z
UID:3743-1736792100-1736792100@northportmaine.org
SUMMARY:Select Board Meeting
DESCRIPTION:The Select Board meets on the 2nd and 4th Monday of each month at 6:15pm at the Town Office. Agendas are available here. Contact the Town Administrator by the Wednesday before the meeting if you wish to add an item to the agenda.
URL:https://northportmaine.org/event/select-board-meeting-4-2022-09-12/2025-01-13/
LOCATION:Northport Town Office\, 16 Beech Hill Road\, Northport\, ME\, 04849\, United States
CATEGORIES:Select Board Meeting
END:VEVENT
BEGIN:VEVENT
DTSTART;TZID=America/New_York:20241223T181500
DTEND;TZID=America/New_York:20241223T181500
DTSTAMP:20260419T074848
CREATED:20220816T193546Z
LAST-MODIFIED:20220816T193546Z
UID:3742-1734977700-1734977700@northportmaine.org
SUMMARY:Select Board Meeting
DESCRIPTION:The Select Board meets on the 2nd and 4th Monday of each month at 6:15pm at the Town Office. Agendas are available here. Contact the Town Administrator by the Wednesday before the meeting if you wish to add an item to the agenda.
URL:https://northportmaine.org/event/select-board-meeting-4-2022-09-12/2024-12-23/
LOCATION:Northport Town Office\, 16 Beech Hill Road\, Northport\, ME\, 04849\, United States
CATEGORIES:Select Board Meeting
END:VEVENT
BEGIN:VEVENT
DTSTART;TZID=America/New_York:20241209T181500
DTEND;TZID=America/New_York:20241209T181500
DTSTAMP:20260419T074848
CREATED:20220816T193546Z
LAST-MODIFIED:20220816T193546Z
UID:3741-1733768100-1733768100@northportmaine.org
SUMMARY:Select Board Meeting
DESCRIPTION:The Select Board meets on the 2nd and 4th Monday of each month at 6:15pm at the Town Office. Agendas are available here. Contact the Town Administrator by the Wednesday before the meeting if you wish to add an item to the agenda.
URL:https://northportmaine.org/event/select-board-meeting-4-2022-09-12/2024-12-09/
LOCATION:Northport Town Office\, 16 Beech Hill Road\, Northport\, ME\, 04849\, United States
CATEGORIES:Select Board Meeting
END:VEVENT
BEGIN:VEVENT
DTSTART;TZID=America/New_York:20241125T181500
DTEND;TZID=America/New_York:20241125T181500
DTSTAMP:20260419T074848
CREATED:20220816T193546Z
LAST-MODIFIED:20220816T193546Z
UID:3740-1732558500-1732558500@northportmaine.org
SUMMARY:Select Board Meeting
DESCRIPTION:The Select Board meets on the 2nd and 4th Monday of each month at 6:15pm at the Town Office. Agendas are available here. Contact the Town Administrator by the Wednesday before the meeting if you wish to add an item to the agenda.
URL:https://northportmaine.org/event/select-board-meeting-4-2022-09-12/2024-11-25/
LOCATION:Northport Town Office\, 16 Beech Hill Road\, Northport\, ME\, 04849\, United States
CATEGORIES:Select Board Meeting
END:VEVENT
BEGIN:VEVENT
DTSTART;TZID=America/New_York:20241028T181500
DTEND;TZID=America/New_York:20241028T181500
DTSTAMP:20260419T074848
CREATED:20220816T193546Z
LAST-MODIFIED:20220816T193546Z
UID:3738-1730139300-1730139300@northportmaine.org
SUMMARY:Select Board Meeting
DESCRIPTION:The Select Board meets on the 2nd and 4th Monday of each month at 6:15pm at the Town Office. Agendas are available here. Contact the Town Administrator by the Wednesday before the meeting if you wish to add an item to the agenda.
URL:https://northportmaine.org/event/select-board-meeting-4-2022-09-12/2024-10-28/
LOCATION:Northport Town Office\, 16 Beech Hill Road\, Northport\, ME\, 04849\, United States
CATEGORIES:Select Board Meeting
END:VEVENT
BEGIN:VEVENT
DTSTART;TZID=America/New_York:20240923T181500
DTEND;TZID=America/New_York:20240923T181500
DTSTAMP:20260419T074848
CREATED:20220816T193546Z
LAST-MODIFIED:20220816T193546Z
UID:3736-1727115300-1727115300@northportmaine.org
SUMMARY:Select Board Meeting
DESCRIPTION:The Select Board meets on the 2nd and 4th Monday of each month at 6:15pm at the Town Office. Agendas are available here. Contact the Town Administrator by the Wednesday before the meeting if you wish to add an item to the agenda.
URL:https://northportmaine.org/event/select-board-meeting-4-2022-09-12/2024-09-23/
LOCATION:Northport Town Office\, 16 Beech Hill Road\, Northport\, ME\, 04849\, United States
CATEGORIES:Select Board Meeting
END:VEVENT
BEGIN:VEVENT
DTSTART;TZID=America/New_York:20240909T181500
DTEND;TZID=America/New_York:20240909T181500
DTSTAMP:20260419T074848
CREATED:20220816T193546Z
LAST-MODIFIED:20220816T193546Z
UID:3735-1725905700-1725905700@northportmaine.org
SUMMARY:Select Board Meeting
DESCRIPTION:The Select Board meets on the 2nd and 4th Monday of each month at 6:15pm at the Town Office. Agendas are available here. Contact the Town Administrator by the Wednesday before the meeting if you wish to add an item to the agenda.
URL:https://northportmaine.org/event/select-board-meeting-4-2022-09-12/2024-09-09/
LOCATION:Northport Town Office\, 16 Beech Hill Road\, Northport\, ME\, 04849\, United States
CATEGORIES:Select Board Meeting
END:VEVENT
BEGIN:VEVENT
DTSTART;TZID=America/New_York:20240826T181500
DTEND;TZID=America/New_York:20240826T181500
DTSTAMP:20260419T074848
CREATED:20220816T193546Z
LAST-MODIFIED:20220816T193546Z
UID:3734-1724696100-1724696100@northportmaine.org
SUMMARY:Select Board Meeting
DESCRIPTION:The Select Board meets on the 2nd and 4th Monday of each month at 6:15pm at the Town Office. Agendas are available here. Contact the Town Administrator by the Wednesday before the meeting if you wish to add an item to the agenda.
URL:https://northportmaine.org/event/select-board-meeting-4-2022-09-12/2024-08-26/
LOCATION:Northport Town Office\, 16 Beech Hill Road\, Northport\, ME\, 04849\, United States
CATEGORIES:Select Board Meeting
END:VEVENT
BEGIN:VEVENT
DTSTART;TZID=America/New_York:20240812T181500
DTEND;TZID=America/New_York:20240812T181500
DTSTAMP:20260419T074848
CREATED:20220816T193546Z
LAST-MODIFIED:20220816T193546Z
UID:3733-1723486500-1723486500@northportmaine.org
SUMMARY:Select Board Meeting
DESCRIPTION:The Select Board meets on the 2nd and 4th Monday of each month at 6:15pm at the Town Office. Agendas are available here. Contact the Town Administrator by the Wednesday before the meeting if you wish to add an item to the agenda.
URL:https://northportmaine.org/event/select-board-meeting-4-2022-09-12/2024-08-12/
LOCATION:Northport Town Office\, 16 Beech Hill Road\, Northport\, ME\, 04849\, United States
CATEGORIES:Select Board Meeting
END:VEVENT
BEGIN:VEVENT
DTSTART;TZID=America/New_York:20240722T181500
DTEND;TZID=America/New_York:20240722T181500
DTSTAMP:20260419T074848
CREATED:20220816T193546Z
LAST-MODIFIED:20220816T193546Z
UID:3732-1721672100-1721672100@northportmaine.org
SUMMARY:Select Board Meeting
DESCRIPTION:The Select Board meets on the 2nd and 4th Monday of each month at 6:15pm at the Town Office. Agendas are available here. Contact the Town Administrator by the Wednesday before the meeting if you wish to add an item to the agenda.
URL:https://northportmaine.org/event/select-board-meeting-4-2022-09-12/2024-07-22/
LOCATION:Northport Town Office\, 16 Beech Hill Road\, Northport\, ME\, 04849\, United States
CATEGORIES:Select Board Meeting
END:VEVENT
BEGIN:VEVENT
DTSTART;TZID=America/New_York:20240708T181500
DTEND;TZID=America/New_York:20240708T181500
DTSTAMP:20260419T074848
CREATED:20220816T193546Z
LAST-MODIFIED:20220816T193546Z
UID:3731-1720462500-1720462500@northportmaine.org
SUMMARY:Select Board Meeting
DESCRIPTION:The Select Board meets on the 2nd and 4th Monday of each month at 6:15pm at the Town Office. Agendas are available here. Contact the Town Administrator by the Wednesday before the meeting if you wish to add an item to the agenda.
URL:https://northportmaine.org/event/select-board-meeting-4-2022-09-12/2024-07-08/
LOCATION:Northport Town Office\, 16 Beech Hill Road\, Northport\, ME\, 04849\, United States
CATEGORIES:Select Board Meeting
END:VEVENT
BEGIN:VEVENT
DTSTART;TZID=America/New_York:20240624T181500
DTEND;TZID=America/New_York:20240624T181500
DTSTAMP:20260419T074848
CREATED:20220816T193546Z
LAST-MODIFIED:20220816T193546Z
UID:3730-1719252900-1719252900@northportmaine.org
SUMMARY:Select Board Meeting
DESCRIPTION:The Select Board meets on the 2nd and 4th Monday of each month at 6:15pm at the Town Office. Agendas are available here. Contact the Town Administrator by the Wednesday before the meeting if you wish to add an item to the agenda.
URL:https://northportmaine.org/event/select-board-meeting-4-2022-09-12/2024-06-24/
LOCATION:Northport Town Office\, 16 Beech Hill Road\, Northport\, ME\, 04849\, United States
CATEGORIES:Select Board Meeting
END:VEVENT
END:VCALENDAR